View In:
ArcGIS JavaScript
ArcGIS Online Map Viewer
ArcGIS Earth
Service Description: extern/Usability_Norm_RGB_NoData
Name: extern/Usability_Norm_RGB_NoData
Description:
Single Fused Map Cache: false
Extent:
XMin: 308617.73340034485
YMin: 5682992.319501877
XMax: 325481.73340034485
YMax: 5699765.319501877
Spatial Reference: 25833
(25833)
LatestVCSWkid(0)
Initial Extent:
XMin: 308617.73340034485
YMin: 5682992.319501877
XMax: 325481.73340034485
YMax: 5699765.319501877
Spatial Reference: 25833
(25833)
LatestVCSWkid(0)
Full Extent:
XMin: 308617.73340034485
YMin: 5682992.319501877
XMax: 325481.73340034485
YMax: 5699765.319501877
Spatial Reference: 25833
(25833)
LatestVCSWkid(0)
Pixel Size X: 1.0
Pixel Size Y: 1.0
Band Count: 3
Pixel Type: F32
RasterFunction Infos: {"rasterFunctionInfos": [{
"name": "None",
"description": "",
"help": ""
}]}
Mensuration Capabilities: Basic
Inspection Capabilities:
Has Histograms: true
Has Colormap: false
Has Multi Dimensions : false
Rendering Rule:
Min Scale: 0
Max Scale: 0
Copyright Text:
Service Data Type: esriImageServiceDataTypeGeneric
Min Values: 0, 0, 0
Max Values: 1, 1, 1
Mean Values: 0.12201568081694, 0.57352637391812, 0.68421842186166
Standard Deviation Values: 0.093864984937001, 0.15261250973962, 0.12418780921775
Object ID Field:
Fields:
None
Default Mosaic Method: Center
Allowed Mosaic Methods:
SortField:
SortValue: null
Mosaic Operator: First
Default Compression Quality: 75
Default Resampling Method: Bilinear
Max Record Count: null
Max Image Height: 4100
Max Image Width: 15000
Max Download Image Count: null
Max Mosaic Image Count: null
Allow Raster Function: true
Allow Copy: true
Allow Analysis: true
Allow Compute TiePoints: false
Supports Statistics: false
Supports Advanced Queries: false
Use StandardizedQueries: true
Raster Type Infos:
Name: Raster Dataset
Description: Supports all ArcGIS Raster Datasets
Help:
Has Raster Attribute Table: false
Edit Fields Info: null
Ownership Based AccessControl For Rasters: null
Child Resources:
Info
Histograms
Statistics
Key Properties
Legend
Raster Function Infos
Supported Operations:
Export Image
Identify
Measure
Compute Histograms
Compute Statistics Histograms
Get Samples
Compute Class Statistics
Query Boundary
Compute Pixel Location
Compute Angles
Validate
Project